BEGIN:VCALENDAR
VERSION:2.0
PRODID:-//Library Market//iCal Export//EN
BEGIN:VEVENT
SUMMARY:Yoto Prize Drawing: Children&#039;s Reading Challenges
UID:95510
DTSTAMP:20260420T075100Z
DTSTART:20260705T050000Z
DTEND:20260726T050000Z
LOCATION:Homer Township Public Library District, 14320 W. 151st Street, Ho
 mer Glen, IL 60491, United States
ROOM: Yoto Prize Drawing: Children&#039;s Reading Challenges
DESCRIPTION:Children&#039;s Reading Challenges!May 26th - July 26thWin a Y
 oto Player!Enroll in a children’s reading challenge, 1000 Books Before K
 indergarten (birth-1st day of Kindergarten), Reading is an Adventure (K
 indergarten-2nd grade) or Reading Rocks (3rd-6th grade) for a chance to wi
 n a Yoto Player!If you are already enrolled in one of the reading challeng
 es, turn in a reading log any time between May 26th - July 26th for a chan
 ce to win a Yoto Player!
URL:https://www.homerlibrary.org/event/yoto-prize-drawing-childrens-readin
 g-challenges-95510
END:VEVENT
END:VCALENDAR
